BEGIN:VCALENDAR
VERSION:2.0
PRODID:-//Eventin//Event Calendar//EN
CALSCALE:GREGORIAN
METHOD:PUBLISH
BEGIN:VEVENT
UID:b32a08a7091ab9bf5202c314cc7fd4f4@www.lovilotfarmbrewery.com
SUMMARY:Experiència Zitogastronòmica &#8211\; Dinar
DESCRIPTION:Si ets un amant de la cervesa\, aquesta experiència és perfec
 ta per a tu. Descobreix el procés de producció de la cervesa artesana eco
 lògica\, des de la sembra i fermentació\, fins al got.\n\n \n\nConeix la
  nostra història i el innovador projecte de cercle tancat\, un mètode sos
 tenible i respectuós amb el medi ambient que defineix la seva cervesa arte
 sana ecològica. Podràs descobrir cada fase del procés d’elaboració\, 
 amb una explicació detallada des de la selecció dels ingredients fins a l
 a fermentació i maduració de les cerveses.\n\n \n\nPer culminar el dia a
 caba amb un dinar o sopar a la granja cervesera\, on cada plat ha estat ela
 borat amb productes de proximitat Km0. Gaudiràs d'un tast de nou cerveses 
 artesanes\, maridades amb 9 plats\, a cada mossegada i cada glop descobrir
 às els autèntics sabors del territori.
LOCATION:Almacelles - Lleida
DTSTAMP:20260423T205848Z
DTSTART:20260530T100000Z
DTEND:20260530T150000Z
END:VEVENT
END:VCALENDAR
